BEGIN:VCALENDAR
VERSION:2.0
PRODID:-//StrengthenND - ECPv6.15.20//NONSGML v1.0//EN
CALSCALE:GREGORIAN
METHOD:PUBLISH
X-WR-CALNAME:StrengthenND
X-ORIGINAL-URL:https://strengthennd.com
X-WR-CALDESC:Events for StrengthenND
REFRESH-INTERVAL;VALUE=DURATION:PT1H
X-Robots-Tag:noindex
X-PUBLISHED-TTL:PT1H
BEGIN:VTIMEZONE
TZID:UTC
BEGIN:STANDARD
TZOFFSETFROM:+0000
TZOFFSETTO:+0000
TZNAME:UTC
DTSTART:20220101T000000
END:STANDARD
END:VTIMEZONE
BEGIN:VEVENT
DTSTART;TZID=UTC:20230715T090000
DTEND;TZID=UTC:20230715T120000
DTSTAMP:20260419T080645
CREATED:20230626T204229Z
LAST-MODIFIED:20230626T204343Z
UID:2351-1689411600-1689422400@strengthennd.com
SUMMARY:Minot Farmers Market
DESCRIPTION:Join area vendors for the kickoff of Minot Farmers market for the 2023 season.  Farmers Market will run every Tuesday 4-7pm\, Thursday 9-noon and Saturday 9-noon through the end of October. \nFollow the market on Facebook\, Instagram and their website for updates! Fun family geared events such as Farmers Market Week\, Picklicious Contest\, Salsa Contest and Fall Festival are planned through the summer.  Tuesday evenings will feature food trucks!
URL:https://strengthennd.com/event/minot-farmers-market-5/
LOCATION:Oak Park Minot\, 420 3rd Ave SW\, Minot\, ND\, 58701\, United States
CATEGORIES:Local Foods
ORGANIZER;CN="Minot Farmers Market":MAILTO:minotfarmersmarket@gmail.com
END:VEVENT
BEGIN:VEVENT
DTSTART;TZID=UTC:20230713T090000
DTEND;TZID=UTC:20230713T120000
DTSTAMP:20260419T080645
CREATED:20230626T203641Z
LAST-MODIFIED:20230626T203849Z
UID:2352-1689238800-1689249600@strengthennd.com
SUMMARY:Minot Farmers Market
DESCRIPTION:Join area vendors for the kickoff of Minot Farmers market for the 2023 season.  Farmers Market will run every Tuesday 4-7pm\, Thursday 9-noon and Saturday 9-noon through the end of October. \nFollow the market on Facebook\, Instagram and their website for updates! Fun family geared events such as Farmers Market Week\, Picklicious Contest\, Salsa Contest and Fall Festival are planned through the summer.  Tuesday evenings will feature food trucks!
URL:https://strengthennd.com/event/minot-farmers-market-4/
LOCATION:Oak Park Minot\, 420 3rd Ave SW\, Minot\, ND\, 58701\, United States
CATEGORIES:Local Foods
ORGANIZER;CN="Minot Farmers Market":MAILTO:minotfarmersmarket@gmail.com
END:VEVENT
BEGIN:VEVENT
DTSTART;TZID=UTC:20230712T170000
DTEND;TZID=UTC:20230712T190000
DTSTAMP:20260419T080645
CREATED:20230612T081021Z
LAST-MODIFIED:20230612T081021Z
UID:2322-1689181200-1689188400@strengthennd.com
SUMMARY:Farmers Market Opening: The Market in Carrington
DESCRIPTION:Farmers market in the Carrington park every other Tuesday 5-7pm July 12 – September 20th. \nSponsored by the Carrington CVB
URL:https://strengthennd.com/event/farmers-market-opening-the-market-in-carrington/
CATEGORIES:Local Foods
ORGANIZER;CN="The Market Carrington":MAILTO:themarket58421@gmail.com
END:VEVENT
BEGIN:VEVENT
DTSTART;TZID=UTC:20230711T160000
DTEND;TZID=UTC:20230711T190000
DTSTAMP:20260419T080645
CREATED:20230626T203226Z
LAST-MODIFIED:20230626T203921Z
UID:2353-1689091200-1689102000@strengthennd.com
SUMMARY:Minot Farmers Market
DESCRIPTION:Join area vendors for the kickoff of Minot Farmers market for the 2023 season.  Farmers Market will run every Tuesday 4-7pm\, Thursday 9-noon and Saturday 9-noon through the end of October. \nFollow the market on Facebook\, Instagram and their website for updates! Fun family geared events such as Farmers Market Week\, Picklicious Contest\, Salsa Contest and Fall Festival are planned through the summer.  Tuesday evenings will feature food trucks!
URL:https://strengthennd.com/event/minot-farmers-market-3/
LOCATION:Oak Park Minot\, 420 3rd Ave SW\, Minot\, ND\, 58701\, United States
CATEGORIES:Local Foods
ORGANIZER;CN="Minot Farmers Market":MAILTO:minotfarmersmarket@gmail.com
END:VEVENT
BEGIN:VEVENT
DTSTART;TZID=UTC:20230708T090000
DTEND;TZID=UTC:20230708T120000
DTSTAMP:20260419T080645
CREATED:20230626T203040Z
LAST-MODIFIED:20230626T203937Z
UID:2346-1688806800-1688817600@strengthennd.com
SUMMARY:Minot Farmers Market
DESCRIPTION:Join area vendors for the kickoff of Minot Farmers market for the 2023 season.  Farmers Market will run every Tuesday 4-7pm\, Thursday 9-noon and Saturday 9-noon through the end of October. \nFollow the market on Facebook\, Instagram and their website for updates! Fun family geared events such as Farmers Market Week\, Picklicious Contest\, Salsa Contest and Fall Festival are planned through the summer.  Tuesday evenings will feature food trucks!
URL:https://strengthennd.com/event/minot-farmers-market-2/
LOCATION:Oak Park Minot\, 420 3rd Ave SW\, Minot\, ND\, 58701\, United States
CATEGORIES:Local Foods
ORGANIZER;CN="Minot Farmers Market":MAILTO:minotfarmersmarket@gmail.com
END:VEVENT
BEGIN:VEVENT
DTSTART;TZID=UTC:20230706T090000
DTEND;TZID=UTC:20230706T120000
DTSTAMP:20260419T080645
CREATED:20230626T202748Z
LAST-MODIFIED:20230626T204005Z
UID:2341-1688634000-1688644800@strengthennd.com
SUMMARY:Minot Farmers Market
DESCRIPTION:Join area vendors for the kickoff of Minot Farmers market for the 2023 season.  Farmers Market will run every Tuesday 4-7pm\, Thursday 9-noon and Saturday 9-noon through the end of October. \nFollow the market on Facebook\, Instagram and their website for updates! Fun family geared events such as Farmers Market Week\, Picklicious Contest\, Salsa Contest and Fall Festival are planned through the summer.  Tuesday evenings will feature food trucks!
URL:https://strengthennd.com/event/minot-farmers-market/
LOCATION:Oak Park Minot\, 420 3rd Ave SW\, Minot\, ND\, 58701\, United States
CATEGORIES:Local Foods
ORGANIZER;CN="Minot Farmers Market":MAILTO:minotfarmersmarket@gmail.com
END:VEVENT
BEGIN:VEVENT
DTSTART;VALUE=DATE:20230701
DTEND;VALUE=DATE:20230702
DTSTAMP:20260419T080645
CREATED:20230525T195854Z
LAST-MODIFIED:20230526T005802Z
UID:2123-1688169600-1688255999@strengthennd.com
SUMMARY:Preregister to Attend the 2023 Class  - Nonprofit Certificate Program
DESCRIPTION:To strengthen the nonprofit sector in North Dakota\, Strengthen ND provides leadership support\, educational opportunities\, turn-key resources\, and identified best practices. Our Nonprofit Leadership Program exemplifies this effort by serving as an annual seven-week individual and organizational development opportunity held throughout September and October. The Nonprofit Certificate Program covers all the essential functions of a 501(c)3 to increase the capacity of the board of directors and staff to focus on its mission and vision.
URL:https://strengthennd.com/event/preregister-to-attend-the-2023-class-nonprofit-certificate-program/
ORGANIZER;CN="Director of Nonprofit Education":MAILTO:nancy@strengthennd.com
END:VEVENT
BEGIN:VEVENT
DTSTART;TZID=UTC:20230627T143000
DTEND;TZID=UTC:20230627T163000
DTSTAMP:20260419T080645
CREATED:20230612T074006Z
LAST-MODIFIED:20230620T024546Z
UID:2308-1687876200-1687883400@strengthennd.com
SUMMARY:Minot Area Farm to School 101 Meeting
DESCRIPTION:Join us on Tuesday\, June 27th\, from 2:30 – 4:30 pm at Prairie Sky Breads in Minot to learn more about selling local foods into Minot area schools and those within the First District Health Unit.  All producers and schools are welcome to attend\, including producers located out of our area.  This will be the first meeting in a series of four to help guide schools and producers through the Farm to School process. \nPresentations will include: Farm to School Intro from Amanda Olson\, North Dakota Department of Public Instruction Farm to School Specialist\, Farm to School Produce Safety from Keith Knudson\, Aspen Hills Ag Consulting LLC\, and a presentation by First District Health Unit. \nWe will have time for questions as well as time to meet other producers and schools in attendance. \nPlease contact ann@strengthennd.com with any questions.
URL:https://strengthennd.com/event/minot-area-farm-to-school-101-meeting/
LOCATION:Prairie Sky Breads\, 3 - 1st St SE\, Minot\, ND\, 58701\, United States
ATTACH;FMTTYPE=image/png:https://strengthennd.com/wp-content/uploads/2023/06/SND.png
END:VEVENT
BEGIN:VEVENT
DTSTART;TZID=UTC:20230614T120000
DTEND;TZID=UTC:20230614T130000
DTSTAMP:20260419T080645
CREATED:20230612T075957Z
LAST-MODIFIED:20230612T075957Z
UID:2316-1686744000-1686747600@strengthennd.com
SUMMARY:FARRMS Food Safety Liability Basics Webinar
DESCRIPTION:“FARRMS & Farm Commons are teaming up to offer a webinar on Food Safety! \nNo matter how safe a farm operation is\, the risk is always there.  During this webinar we will discuss the best practices farmers and ranches can adopt to get a foothold in managing their food safety liability exposure.  You won’t want to miss this one!” \nDescription from FARRMS Facebook Page \n 
URL:https://strengthennd.com/event/farrms-food-safety-liability-basics-webinar/
CATEGORIES:Local Foods
END:VEVENT
BEGIN:VEVENT
DTSTART;VALUE=DATE:20230531
DTEND;VALUE=DATE:20230601
DTSTAMP:20260419T080645
CREATED:20230222T231137Z
LAST-MODIFIED:20230222T231204Z
UID:1987-1685491200-1685577599@strengthennd.com
SUMMARY:Change Network Applications Close
DESCRIPTION:
URL:https://strengthennd.com/event/change-network-applications-close/
END:VEVENT
BEGIN:VEVENT
DTSTART;VALUE=DATE:20230530
DTEND;VALUE=DATE:20230603
DTSTAMP:20260419T080645
CREATED:20230214T052549Z
LAST-MODIFIED:20230418T001415Z
UID:1950-1685404800-1685750399@strengthennd.com
SUMMARY:Launching Leadership Program
DESCRIPTION:Launching Leadership is a youth leadership program which coordinates several regional youth (9-12 grade) leadership institutes throughout the state of North Dakota.  This program will host a youth leadership institute this spring for student grades 9-12 from across the state of North Dakota and will roll out additional institutes across the state over the next two years. \nThis program will provide education specific to leadership development\, as well as introduce the participants to local communities\, businesses\, organizations\, and local leaders.  Our hope is to provide a platform for young people to learn how to become leaders and make positive changes within the communities they live. \nStrengthen ND has partnered with Minot State University and North Dakota Department of Commerce to host the leadership institute in the North Central region of North Dakota May 30 – June 3rd.  Spots are limited so sign up TODAY by clicking HERE!
URL:https://strengthennd.com/event/launching-leadership-program/
ORGANIZER;CN="Strengthen ND":MAILTO:beth@strengthennd.com
END:VEVENT
BEGIN:VEVENT
DTSTART;TZID=UTC:20230504T170000
DTEND;TZID=UTC:20230505T170000
DTSTAMP:20260419T080645
CREATED:20230306T214039Z
LAST-MODIFIED:20230306T214039Z
UID:2088-1683219600-1683306000@strengthennd.com
SUMMARY:Growing North Dakota - North Dakota Farmers Market and Growers Association Conference
DESCRIPTION:Join the North Dakota Farmers Market and Growers Association and North Dakota Department of Agriculture in learning more about local foods production at Dakota College at Bottineau on May 4-5th.  Registration details coming soon!
URL:https://strengthennd.com/event/growing-north-dakota-north-dakota-farmers-market-and-growers-association-conference/
LOCATION:Dakota College at Bottineau\, Bottineau\, ND
CATEGORIES:Local Foods
ORGANIZER;CN="NDFMGA":MAILTO:NDFMGA@outlook.com
END:VEVENT
BEGIN:VEVENT
DTSTART;TZID=UTC:20230430T080000
DTEND;TZID=UTC:20230430T170000
DTSTAMP:20260419T080645
CREATED:20230222T231058Z
LAST-MODIFIED:20230222T231058Z
UID:1985-1682841600-1682874000@strengthennd.com
SUMMARY:Bush Prize Applications Close
DESCRIPTION:
URL:https://strengthennd.com/event/bush-prize-applications-close/
END:VEVENT
BEGIN:VEVENT
DTSTART;VALUE=DATE:20230401
DTEND;VALUE=DATE:20230416
DTSTAMP:20260419T080645
CREATED:20230227T231202Z
LAST-MODIFIED:20230412T232526Z
UID:2027-1680307200-1681603199@strengthennd.com
SUMMARY:Launching Leadership Applications Due!
DESCRIPTION:The application deadline for Launching Leadership\, a “Community-First” leadership program for North Dakota 9th – 12th grade students\, is April 15th.  Applications can be found HERE. \nLaunching Leadership will be hosted at the Minot State University campus May 30\, 2023 – June 3\, 2023!  Sign up today!!! \n  \nFor questions\, please contact Beth Odahlen at beth@strengthennd.com.
URL:https://strengthennd.com/event/launching-leadership-applications-due/
END:VEVENT
BEGIN:VEVENT
DTSTART;VALUE=DATE:20230401
DTEND;VALUE=DATE:20230402
DTSTAMP:20260419T080645
CREATED:20230222T230936Z
LAST-MODIFIED:20230222T230936Z
UID:1983-1680307200-1680393599@strengthennd.com
SUMMARY:Change Network Applications  Open
DESCRIPTION:
URL:https://strengthennd.com/event/change-network-applications-open/
END:VEVENT
BEGIN:VEVENT
DTSTART;TZID=UTC:20230330T080000
DTEND;TZID=UTC:20230331T170000
DTSTAMP:20260419T080645
CREATED:20230306T215727Z
LAST-MODIFIED:20230306T215727Z
UID:2093-1680163200-1680282000@strengthennd.com
SUMMARY:Pride of Dakota and Local Foods Conference
DESCRIPTION:Pride of Dakota and ND Department of Agriculture conference including Produce Safety Training on March 30th  and the Conference March 31st.  Free attendance!
URL:https://strengthennd.com/event/pride-of-dakota-and-local-foods-conference/
LOCATION:Fargo\, ND
CATEGORIES:Local Foods
END:VEVENT
BEGIN:VEVENT
DTSTART;VALUE=DATE:20230315
DTEND;VALUE=DATE:20230316
DTSTAMP:20260419T080645
CREATED:20230222T230800Z
LAST-MODIFIED:20230222T231011Z
UID:1980-1678838400-1678924799@strengthennd.com
SUMMARY:Busch Prize Applications Open
DESCRIPTION:
URL:https://strengthennd.com/event/busch-prize-applications-open/
END:VEVENT
END:VCALENDAR