BEGIN:VCALENDAR
VERSION:2.0
PRODID:-//StrengthenND - ECPv6.15.20//NONSGML v1.0//EN
CALSCALE:GREGORIAN
METHOD:PUBLISH
X-ORIGINAL-URL:https://strengthennd.com
X-WR-CALDESC:Events for StrengthenND
REFRESH-INTERVAL;VALUE=DURATION:PT1H
X-Robots-Tag:noindex
X-PUBLISHED-TTL:PT1H
BEGIN:VTIMEZONE
TZID:UTC
BEGIN:STANDARD
TZOFFSETFROM:+0000
TZOFFSETTO:+0000
TZNAME:UTC
DTSTART:20220101T000000
END:STANDARD
END:VTIMEZONE
BEGIN:VEVENT
DTSTART;TZID=UTC:20230614T120000
DTEND;TZID=UTC:20230614T130000
DTSTAMP:20260419T124809
CREATED:20230612T075957Z
LAST-MODIFIED:20230612T075957Z
UID:2316-1686744000-1686747600@strengthennd.com
SUMMARY:FARRMS Food Safety Liability Basics Webinar
DESCRIPTION:“FARRMS & Farm Commons are teaming up to offer a webinar on Food Safety! \nNo matter how safe a farm operation is\, the risk is always there.  During this webinar we will discuss the best practices farmers and ranches can adopt to get a foothold in managing their food safety liability exposure.  You won’t want to miss this one!” \nDescription from FARRMS Facebook Page \n 
URL:https://strengthennd.com/event/farrms-food-safety-liability-basics-webinar/
CATEGORIES:Local Foods
END:VEVENT
BEGIN:VEVENT
DTSTART;TZID=UTC:20230504T170000
DTEND;TZID=UTC:20230505T170000
DTSTAMP:20260419T124809
CREATED:20230306T214039Z
LAST-MODIFIED:20230306T214039Z
UID:2088-1683219600-1683306000@strengthennd.com
SUMMARY:Growing North Dakota - North Dakota Farmers Market and Growers Association Conference
DESCRIPTION:Join the North Dakota Farmers Market and Growers Association and North Dakota Department of Agriculture in learning more about local foods production at Dakota College at Bottineau on May 4-5th.  Registration details coming soon!
URL:https://strengthennd.com/event/growing-north-dakota-north-dakota-farmers-market-and-growers-association-conference/
LOCATION:Dakota College at Bottineau\, Bottineau\, ND
CATEGORIES:Local Foods
ORGANIZER;CN="NDFMGA":MAILTO:NDFMGA@outlook.com
END:VEVENT
BEGIN:VEVENT
DTSTART;TZID=UTC:20230330T080000
DTEND;TZID=UTC:20230331T170000
DTSTAMP:20260419T124809
CREATED:20230306T215727Z
LAST-MODIFIED:20230306T215727Z
UID:2093-1680163200-1680282000@strengthennd.com
SUMMARY:Pride of Dakota and Local Foods Conference
DESCRIPTION:Pride of Dakota and ND Department of Agriculture conference including Produce Safety Training on March 30th  and the Conference March 31st.  Free attendance!
URL:https://strengthennd.com/event/pride-of-dakota-and-local-foods-conference/
LOCATION:Fargo\, ND
CATEGORIES:Local Foods
END:VEVENT
END:VCALENDAR